BEGIN:VCALENDAR
VERSION:2.0
PRODID:-//SP Kanton Obwalden - ECPv6.15.13.1//NONSGML v1.0//EN
CALSCALE:GREGORIAN
METHOD:PUBLISH
X-WR-CALNAME:SP Kanton Obwalden
X-ORIGINAL-URL:https://sp-obwalden.ch
X-WR-CALDESC:Veranstaltungen im SP Kanton Obwalden
REFRESH-INTERVAL;VALUE=DURATION:PT1H
X-Robots-Tag:noindex
X-PUBLISHED-TTL:PT1H
BEGIN:VTIMEZONE
TZID:Europe/Zurich
BEGIN:DAYLIGHT
TZOFFSETFROM:+0100
TZOFFSETTO:+0200
TZNAME:CEST
DTSTART:20240331T010000
END:DAYLIGHT
BEGIN:STANDARD
TZOFFSETFROM:+0200
TZOFFSETTO:+0100
TZNAME:CET
DTSTART:20241027T010000
END:STANDARD
BEGIN:DAYLIGHT
TZOFFSETFROM:+0100
TZOFFSETTO:+0200
TZNAME:CEST
DTSTART:20250330T010000
END:DAYLIGHT
BEGIN:STANDARD
TZOFFSETFROM:+0200
TZOFFSETTO:+0100
TZNAME:CET
DTSTART:20251026T010000
END:STANDARD
BEGIN:DAYLIGHT
TZOFFSETFROM:+0100
TZOFFSETTO:+0200
TZNAME:CEST
DTSTART:20260329T010000
END:DAYLIGHT
BEGIN:STANDARD
TZOFFSETFROM:+0200
TZOFFSETTO:+0100
TZNAME:CET
DTSTART:20261025T010000
END:STANDARD
END:VTIMEZONE
BEGIN:VEVENT
DTSTART;TZID=Europe/Zurich:20250918T191500
DTEND;TZID=Europe/Zurich:20250918T210000
DTSTAMP:20260420T183154
CREATED:20250910T124648Z
LAST-MODIFIED:20250910T124648Z
UID:90313-1758222900-1758229200@sp-obwalden.ch
SUMMARY:Frauen im Austausch
DESCRIPTION:Frauen im Austausch am 18.09.2025 \nDer Sommer neigt sich langsam dem Ende zu – genau der richtige Zeitpunkt\, um in entspannter Atmosphäre zusammenzukommen\, neue Kontakte zu knüpfen und spannende Gespräche zu führen. \nDas Politische Frauennetzwerk Obwalden lädt alle interessierten Frauen herzlich zu einem offenen Sommeranlass ein. \nUnter dem Motto “Frauen im Austausch” möchten wir die Gelegenheit bieten\, sich über aktuelle politische Themen\, persönliche Erfahrungen und Ideen auszutauschen. Ganz egal\, ob du bereits politisch aktiv bist oder einfach neugierig – dein Beitrag und deine Sichtweise sind willkommen! \nFür das leibliche Wohl und eine sommerlich-leichte Atmosphäre ist gesorgt. Komm vorbei\, diskutiere mit und sei Teil unseres Netzwerks. \n  \nWann: Ab 19.15 Uhr \nWo: Hotel Metzgern Sarnen \nAnmeldung unter https://forms.gle/6er6s32wYk7Kwqcp8
URL:https://sp-obwalden.ch/veranstaltung/frauen-im-austausch/
LOCATION:Hotel Metzgern\, Sarnen
CATEGORIES:Sitzung
END:VEVENT
END:VCALENDAR